BEGIN:VCALENDAR
VERSION:2.0
PRODID:-//World Green Building Council - ECPv6.15.20//NONSGML v1.0//EN
CALSCALE:GREGORIAN
METHOD:PUBLISH
X-WR-CALNAME:World Green Building Council
X-ORIGINAL-URL:https://worldgbc.org
X-WR-CALDESC:Events for World Green Building Council
REFRESH-INTERVAL;VALUE=DURATION:PT1H
X-Robots-Tag:noindex
X-PUBLISHED-TTL:PT1H
BEGIN:VTIMEZONE
TZID:UTC
BEGIN:STANDARD
TZOFFSETFROM:+0000
TZOFFSETTO:+0000
TZNAME:UTC
DTSTART:20220101T000000
END:STANDARD
END:VTIMEZONE
BEGIN:VEVENT
DTSTART;TZID=UTC:20230215T080000
DTEND;TZID=UTC:20230215T170000
DTSTAMP:20260422T221854
CREATED:20230112T131226Z
LAST-MODIFIED:20230113T105540Z
UID:12452-1676448000-1676480400@worldgbc.org
SUMMARY:London Property Technology Show
DESCRIPTION:15 – 16 February \n\n\n\nThe surge in disruptive technologies in the past few years has led to the transformation of the real estate market\, the industry is now seen as a tech-driven sector with significant developments taking place in areas such as construction\, logistics\, payment technologies\, rentals\, workspaces etc and most importantly the changes required to meet the sustainability pledges are hugely contributing to the technology transformation of the industry. In terms of investments\, the PropTech segment currently is coming out to be the most sought after segment within the real estate sector and is growing at a rapid pace with a record-breaking increase in investments YoY.
URL:https://worldgbc.org/event/london-property-technology-show/
LOCATION:Business Design Centre\, 52 Upper St\, London N1 0QH\, London\, United Kingdom
CATEGORIES:Events of Interest
END:VEVENT
END:VCALENDAR