BEGIN:VCALENDAR
VERSION:2.0
PRODID:-//World Green Building Council - ECPv6.15.20//NONSGML v1.0//EN
CALSCALE:GREGORIAN
METHOD:PUBLISH
X-WR-CALNAME:World Green Building Council
X-ORIGINAL-URL:https://worldgbc.org
X-WR-CALDESC:Events for World Green Building Council
REFRESH-INTERVAL;VALUE=DURATION:PT1H
X-Robots-Tag:noindex
X-PUBLISHED-TTL:PT1H
BEGIN:VTIMEZONE
TZID:UTC
BEGIN:STANDARD
TZOFFSETFROM:+0000
TZOFFSETTO:+0000
TZNAME:UTC
DTSTART:20240101T000000
END:STANDARD
END:VTIMEZONE
BEGIN:VTIMEZONE
TZID:America/Sao_Paulo
BEGIN:STANDARD
TZOFFSETFROM:-0300
TZOFFSETTO:-0300
TZNAME:-03
DTSTART:20240101T000000
END:STANDARD
END:VTIMEZONE
BEGIN:VTIMEZONE
TZID:Asia/Singapore
BEGIN:STANDARD
TZOFFSETFROM:+0800
TZOFFSETTO:+0800
TZNAME:+08
DTSTART:20250101T000000
END:STANDARD
END:VTIMEZONE
BEGIN:VEVENT
DTSTART;TZID=UTC:20251001T090000
DTEND;TZID=UTC:20251002T170000
DTSTAMP:20260423T035442
CREATED:20250210T133257Z
LAST-MODIFIED:20250303T134002Z
UID:17626-1759309200-1759424400@worldgbc.org
SUMMARY:The London PropTech Show
DESCRIPTION:Europe’s leading trade show and conference showcasing the latest innovations in real estate technology. Join us for a dynamic event featuring cutting-edge proptech solutions\, expert-led seminars\, and tailored networking opportunities. Whether you’re a real estate developer\, investor\, or a proptech entrepreneur\, discover the future of real estate at the third annual London Proptech Show.
URL:https://worldgbc.org/event/the-london-proptech-show/
LOCATION:ExCel London\, Royal Victoria Dock\, 1 Western Gateway\, London E16 1XL\, Royal Victoria Dock\, E16 1XL
CATEGORIES:Events of Interest
END:VEVENT
BEGIN:VEVENT
DTSTART;TZID=America/Sao_Paulo:20251107T160000
DTEND;TZID=America/Sao_Paulo:20251107T162000
DTSTAMP:20260423T035442
CREATED:20251023T161844Z
LAST-MODIFIED:20251023T162005Z
UID:18773-1762531200-1762532400@worldgbc.org
SUMMARY:COP30: Local Leadership\, Global Impact: Cities at the heart of climate action (Sustainable Innovation Forum)
DESCRIPTION:The internationally acclaimed Forum that has convened leaders from business\, policy and finance at COP for 16 years\, dedicated to facilitating cross sector collaboration to catalyse transformative climate action.
URL:https://worldgbc.org/event/cop30-local-leadership-global-impact-cities-at-the-heart-of-climate-action-sustainable-innovation-forum/
LOCATION:Renaissance São Paulo Hotel Conference Centre @ Al. Jaú\, 1.620 – Jardim Paulista\, São Paulo\, CEP: 01420-006\, São Paulo\, Brazil
CATEGORIES:Events of Interest
END:VEVENT
BEGIN:VEVENT
DTSTART;TZID=America/Sao_Paulo:20251108T090000
DTEND;TZID=America/Sao_Paulo:20251108T180000
DTSTAMP:20260423T035442
CREATED:20251023T163842Z
LAST-MODIFIED:20251023T163909Z
UID:18775-1762592400-1762624800@worldgbc.org
SUMMARY:COP30: Climate Implementation Summit
DESCRIPTION:The program will feature real-world cases of private sector solutions and investments across the six pillars of the Action Agenda\, as well as panels\, roundtables\, and side events.
URL:https://worldgbc.org/event/cop30-climate-implementation-summit/
LOCATION:Renaissance São Paulo Hotel Conference Centre @ Al. Jaú\, 1.620 – Jardim Paulista\, São Paulo\, CEP: 01420-006\, São Paulo\, Brazil
CATEGORIES:Events of Interest
END:VEVENT
BEGIN:VEVENT
DTSTART;TZID=America/Sao_Paulo:20251108T163000
DTEND;TZID=America/Sao_Paulo:20251108T210000
DTSTAMP:20260423T035442
CREATED:20251023T164610Z
LAST-MODIFIED:20251024T074352Z
UID:18777-1762619400-1762635600@worldgbc.org
SUMMARY:COP30: Building for Forests: Global Collaboration & Documentary Premiere
DESCRIPTION:The event\, Building for Forests: Global Collaboration & Documentary Premiere\, will bring together leading voices from across the timber value chain in Brazil and the wider world. The evening will open with a session featuring prominent Brazilian architects\, municipal leaders\, and policymakers exploring how forest-positive construction is shaping cities and communities across the country. This will be followed by the premiere screening of ‘Our Future: Built by Nature’\, a new documentary produced by Open Planet Studios\, and presentations from the Built by Nature Prize 2025 winners\, highlighting global innovation and collaboration in responsible timber construction.
URL:https://worldgbc.org/event/cop30-building-for-forests-global-collaboration-documentary-premiere/
CATEGORIES:Events of Interest
END:VEVENT
BEGIN:VEVENT
DTSTART;TZID=UTC:20251110T080000
DTEND;TZID=UTC:20251121T170000
DTSTAMP:20260423T035442
CREATED:20250410T102008Z
LAST-MODIFIED:20250410T102009Z
UID:17958-1762761600-1763744400@worldgbc.org
SUMMARY:COP30 | Amazonia
DESCRIPTION:The Conference of the Parties (COP) is the largest global event for discussions and negotiations on climate change. The meeting is held annually\, with the presidency rotating among the five regions recognized by the United Nations. \n\n\n\nIn 2025\, Brazil will have the honor of hosting the 30th Conference of the Parties (COP30)\, which will take place in Belém\, Pará. The chosen city will provide the world with a unique platform to discuss climate solutions\, firmly rooted in the heart of the Amazon. \n\n\n\nAs the host country\, Brazil is committed to strengthening multilateralism and fostering consensus on global targets to reduce greenhouse gas emissions that contribute to the warming of the planet. \n\n\n\nFor more information about COP\, visit the UNFCCC website.
URL:https://worldgbc.org/event/cop30-amazonia/
LOCATION:Belem\, Brazil\, Belem\, Brazil
CATEGORIES:Events of Interest
END:VEVENT
BEGIN:VEVENT
DTSTART;TZID=America/Sao_Paulo:20251111T153000
DTEND;TZID=America/Sao_Paulo:20251111T163000
DTSTAMP:20260423T035442
CREATED:20251024T074953Z
LAST-MODIFIED:20251024T074954Z
UID:18779-1762875000-1762878600@worldgbc.org
SUMMARY:COP30: Powering the Digital Age
DESCRIPTION:
URL:https://worldgbc.org/event/cop30-powering-the-digital-age/
LOCATION:Blue Zone\, Belém\, he Hangar Convention and Fair Centre of the Amazon and the Parque da Cidade\, Belém\, Brazil
CATEGORIES:Events of Interest
END:VEVENT
BEGIN:VEVENT
DTSTART;TZID=America/Sao_Paulo:20251111T153000
DTEND;TZID=America/Sao_Paulo:20251111T163000
DTSTAMP:20260423T035442
CREATED:20251024T075655Z
LAST-MODIFIED:20251024T075656Z
UID:18781-1762875000-1762878600@worldgbc.org
SUMMARY:COP30: From Grid to Building: Reimagining Infrastructure for a Sustainable Digital Future
DESCRIPTION:
URL:https://worldgbc.org/event/cop30-from-grid-to-building-reimagining-infrastructure-for-a-sustainable-digital-future/
LOCATION:Blue Zone\, World Climate Impact Hub Pavilion\, Parque da Cidade\, Belém\, Brazil
CATEGORIES:Events of Interest
END:VEVENT
BEGIN:VEVENT
DTSTART;TZID=America/Sao_Paulo:20251113T093000
DTEND;TZID=America/Sao_Paulo:20251113T103000
DTSTAMP:20260423T035442
CREATED:20251024T081146Z
LAST-MODIFIED:20251024T081147Z
UID:18789-1763026200-1763029800@worldgbc.org
SUMMARY:COP30: Driving Global Uptake of Established Climate Technologies and Solutions for Buildings (launch of TEC policy brief and Catalogue of Solutions)
DESCRIPTION:
URL:https://worldgbc.org/event/cop30-driving-global-uptake-of-established-climate-technologies-and-solutions-for-buildings-launch-of-tec-policy-brief-and-catalogue-of-solutions/
LOCATION:Blue Zone\, Buildings and Coolings Pavillion\, Blue Zone\, Parque da Cidade\, Belém\, Brazil
CATEGORIES:Events of Interest
END:VEVENT
BEGIN:VEVENT
DTSTART;TZID=America/Sao_Paulo:20251113T162000
DTEND;TZID=America/Sao_Paulo:20251113T170000
DTSTAMP:20260423T035442
CREATED:20251024T080925Z
LAST-MODIFIED:20251024T080925Z
UID:18787-1763050800-1763053200@worldgbc.org
SUMMARY:COP30: A Healthy Dose of Building Efficiency
DESCRIPTION:This session will explore the multiple benefits of energy efficiency\, and discuss how best to unleash them\, using opportunities through legislation such as the Energy Performance of Buildings Directive(EPBD) as a starting point\, and putting people at the centre of the agenda.
URL:https://worldgbc.org/event/cop30-a-healthy-dose-of-building-efficiency/
CATEGORIES:Events of Interest
END:VEVENT
BEGIN:VEVENT
DTSTART;TZID=America/Sao_Paulo:20251114T101500
DTEND;TZID=America/Sao_Paulo:20251114T104500
DTSTAMP:20260423T035442
CREATED:20251024T103007Z
LAST-MODIFIED:20251024T103008Z
UID:18805-1763115300-1763117100@worldgbc.org
SUMMARY:COP30: Healthcare Event
DESCRIPTION:
URL:https://worldgbc.org/event/cop30-healthcare-event/
LOCATION:Blue Zone\, Buildings and Coolings Pavillion\, Blue Zone\, Parque da Cidade\, Belém\, Brazil
CATEGORIES:Events of Interest
END:VEVENT
BEGIN:VEVENT
DTSTART;TZID=America/Sao_Paulo:20251114T110000
DTEND;TZID=America/Sao_Paulo:20251114T114500
DTSTAMP:20260423T035442
CREATED:20251024T103215Z
LAST-MODIFIED:20251024T103655Z
UID:18807-1763118000-1763120700@worldgbc.org
SUMMARY:COP30: Sustainable Cities & Infrastructure
DESCRIPTION:As urbanisation accelerates and populations grow\, alongside more frequent and intense natural disasters\, cities face mounting challenges. Resilient infrastructure is critical to help protect communities and maintain economic stability. This session will highlight how AI and advanced technologies are being leveraged to enhance infrastructure resilience\, featuring practical case studies and innovative approaches that contribute to building sustainable urban environments. Join us to discover actionable strategies and innovations that deliver business benefits and enable thriving\, future-ready urban communities for generations to come.
URL:https://worldgbc.org/event/cop30-sustainable-cities-infrastructure/
LOCATION:Deloitte Pavilion\, COP30\, Belém\, Brazil
CATEGORIES:Events of Interest
END:VEVENT
BEGIN:VEVENT
DTSTART;TZID=America/Sao_Paulo:20251114T142000
DTEND;TZID=America/Sao_Paulo:20251114T150000
DTSTAMP:20260423T035442
CREATED:20251029T051844Z
LAST-MODIFIED:20251029T051845Z
UID:18836-1763130000-1763132400@worldgbc.org
SUMMARY:COP30: Panel 8B: Buildings That Pay Back – Nature-Positive Design and Materials at Scale (World Climate Summit)
DESCRIPTION:
URL:https://worldgbc.org/event/cop30-panel-8b-buildings-that-pay-back-nature-positive-design-and-materials-at-scale-world-climate-summit/
LOCATION:Assembléia Paraense | Belém\, Brazil\, Av. Alm. Barroso\, 4614 - Souza\, Belém - PA\, 66613-710\, Brazil\, Belém\, Brazil
CATEGORIES:Events of Interest
END:VEVENT
BEGIN:VEVENT
DTSTART;TZID=America/Sao_Paulo:20251114T164500
DTEND;TZID=America/Sao_Paulo:20251114T181500
DTSTAMP:20260423T035442
CREATED:20251024T102331Z
LAST-MODIFIED:20251024T102331Z
UID:18799-1763138700-1763144100@worldgbc.org
SUMMARY:COP30: (UNFCCC Official Side Event) Financing Resilient Built Environment: Solutions for Infrastructure\, Housing & Informal Settlements
DESCRIPTION:
URL:https://worldgbc.org/event/cop30-unfccc-official-side-event-financing-resilient-built-environment-solutions-for-infrastructure-housing-informal-settlements/
LOCATION:Blue Zone\, Side Event Room 8\, Parque da Cidade\, Belém\, Brazil
CATEGORIES:Events of Interest
END:VEVENT
BEGIN:VEVENT
DTSTART;TZID=UTC:20260310T140000
DTEND;TZID=UTC:20260310T150000
DTSTAMP:20260423T035442
CREATED:20260227T082459Z
LAST-MODIFIED:20260227T082812Z
UID:19080-1773151200-1773154800@worldgbc.org
SUMMARY:MIPIM 2026: Your Yearly Briefing on Real Estate Decarbonisation: Investment\, Trends and Policy
DESCRIPTION:WorldGBC’s Sustainable Finance Lead\, Julie Emmrich\, is speaking at #MIPIM2026.  \n\n\n\nThe construction and real estate sectors face rising costs\, uncertain economic context\, and shifting investor expectations. Political volatility & ESG backlash add fresh uncertainty. This session opens MIPIM’s Road to Zero stage with a clear-eyed look at where the industry stands on sustainability\, exploring progress\, financing trends\, and how policy turbulence may reshape the path to a greener built environment.
URL:https://worldgbc.org/event/mipim-2026-your-yearly-briefing-on-real-estate-decarbonisation-investment-trends-and-policy/
LOCATION:Palais des Festivals\, Cannes\, France\, Palais des Festivals\, Cannes\, France
CATEGORIES:Events of Interest
END:VEVENT
BEGIN:VEVENT
DTSTART;TZID=UTC:20260311T113000
DTEND;TZID=UTC:20260311T123000
DTSTAMP:20260423T035442
CREATED:20260227T082705Z
LAST-MODIFIED:20260227T082731Z
UID:19082-1773228600-1773232200@worldgbc.org
SUMMARY:MIPIM 2026: Decarbonising Occupied Buildings: Practical Pathways
DESCRIPTION:WorldGBC’s Climate Action Manager\, Matthew Black\, is speaking at #MIPIM2026. \n\n\n\nLearn how to drive carbon reduction while keeping buildings operational. Discover how owners and operators are achieving decarbonisation in active\, income-generating buildings – from retrofit sequencing to tenant engagement – turning occupied assets into low-carbon success stories.
URL:https://worldgbc.org/event/mipim-2026-decarbonising-occupied-buildings-practical-pathways/
LOCATION:Palais des Festivals\, Cannes\, France\, Palais des Festivals\, Cannes\, France
CATEGORIES:Events of Interest
END:VEVENT
BEGIN:VEVENT
DTSTART;TZID=Asia/Singapore:20260614T000000
DTEND;TZID=Asia/Singapore:20260616T235959
DTSTAMP:20260423T035442
CREATED:20260217T105456Z
LAST-MODIFIED:20260217T105938Z
UID:19050-1781395200-1781654399@worldgbc.org
SUMMARY:World Cities Summit 2026
DESCRIPTION:The biennial World Cities Summit (WCS) is a global platform for government leaders and industry experts to address liveable and sustainable city challenges\, share integrated urban solutions and forge new partnerships. \n\n\n\nJointly organised by Singapore’s Centre for Liveable Cities (CLC) and the Urban Redevelopment Authority (URA)\, key highlights of the Summit include the Mayors Forum\, the WCS Young Leaders Symposium and the Science of Cities Symposium\, the Lee Kuan Yew World City Prize and an exhibition.
URL:https://worldgbc.org/event/world-cities-summit-2026/
LOCATION:Suntec Singapore Convention & Exhibition Centre
CATEGORIES:Events of Interest
ATTACH;FMTTYPE=image/jpeg:https://worldgbc.org/wp-content/uploads/2026/02/WCS26_KV_vertical.jpg
END:VEVENT
END:VCALENDAR