BEGIN:VCALENDAR
VERSION:2.0
PRODID:-//World Green Building Council - ECPv6.15.20//NONSGML v1.0//EN
CALSCALE:GREGORIAN
METHOD:PUBLISH
X-ORIGINAL-URL:https://worldgbc.org
X-WR-CALDESC:Events for World Green Building Council
REFRESH-INTERVAL;VALUE=DURATION:PT1H
X-Robots-Tag:noindex
X-PUBLISHED-TTL:PT1H
BEGIN:VTIMEZONE
TZID:UTC
BEGIN:STANDARD
TZOFFSETFROM:+0000
TZOFFSETTO:+0000
TZNAME:UTC
DTSTART:20230101T000000
END:STANDARD
END:VTIMEZONE
BEGIN:VEVENT
DTSTART;TZID=UTC:20240909T090000
DTEND;TZID=UTC:20240913T173000
DTSTAMP:20260423T132954
CREATED:20240814T095105Z
LAST-MODIFIED:20240814T095106Z
UID:16844-1725872400-1726248600@worldgbc.org
SUMMARY:World Green Building Week 2024
DESCRIPTION:This World Green Building Week\, from 9–13 September 2024\, we’re calling on the global building and construction sector to accelerate the transition for a healthy planet and a better future for all. \n\n\n\nLed by a network of over 75 national Green Building Councils (GBCs) and their 46\,000 members\, the week-long campaign will show how through global and local solutions we can transition to more sustainable built environments. \n\n\n\nThroughout the week\, WorldGBC’s network will host events across the world and share examples of #BuildingTheTransition across three areas: Reduce\, Electrify\, Adapt.
URL:https://worldgbc.org/event/world-green-building-week-2024/
CATEGORIES:WorldGBC Events
END:VEVENT
END:VCALENDAR