BEGIN:VCALENDAR
VERSION:2.0
PRODID:-//World Green Building Council - ECPv6.15.20//NONSGML v1.0//EN
CALSCALE:GREGORIAN
METHOD:PUBLISH
X-ORIGINAL-URL:https://worldgbc.org
X-WR-CALDESC:Events for World Green Building Council
REFRESH-INTERVAL;VALUE=DURATION:PT1H
X-Robots-Tag:noindex
X-PUBLISHED-TTL:PT1H
BEGIN:VTIMEZONE
TZID:UTC
BEGIN:STANDARD
TZOFFSETFROM:+0000
TZOFFSETTO:+0000
TZNAME:UTC
DTSTART:20230101T000000
END:STANDARD
END:VTIMEZONE
BEGIN:VEVENT
DTSTART;TZID=UTC:20241031T140000
DTEND;TZID=UTC:20241031T150000
DTSTAMP:20260425T115220
CREATED:20241018T153452Z
LAST-MODIFIED:20241106T135905Z
UID:17160-1730383200-1730386800@worldgbc.org
SUMMARY:Webinar: #BuildingToCOP Forum
DESCRIPTION:As part of the #BuildingToCOP coalition\, WorldGBC joins leaders from across the sector who are promoting the built environment’s potential in accelerating the transition to a healthy\, safe and resilient future.  \n\n\n\nThe #BuildingToCOP Forums hosted by WorldGBC are open events where the coalition discusses developments and solutions ahead of COP29. The next forum will take place on 31 October 2024 at 14:00 GMT. \n\n\n\nFind out how we’re #BuildingToCOP29
URL:https://worldgbc.org/event/webinar-buildingtocop-forum/
CATEGORIES:WorldGBC Events
ATTACH;FMTTYPE=image/png:https://worldgbc.org/wp-content/uploads/2024/10/Building-To-COP-29-Logo.png
END:VEVENT
END:VCALENDAR