BEGIN:VCALENDAR
VERSION:2.0
PRODID:-//World Green Building Council - ECPv6.15.20//NONSGML v1.0//EN
CALSCALE:GREGORIAN
METHOD:PUBLISH
X-ORIGINAL-URL:https://worldgbc.org
X-WR-CALDESC:Events for World Green Building Council
REFRESH-INTERVAL;VALUE=DURATION:PT1H
X-Robots-Tag:noindex
X-PUBLISHED-TTL:PT1H
BEGIN:VTIMEZONE
TZID:UTC
BEGIN:STANDARD
TZOFFSETFROM:+0000
TZOFFSETTO:+0000
TZNAME:UTC
DTSTART:20240101T000000
END:STANDARD
END:VTIMEZONE
BEGIN:VEVENT
DTSTART;TZID=UTC:20250122T143000
DTEND;TZID=UTC:20250122T180000
DTSTAMP:20260421T185116
CREATED:20250127T074429Z
LAST-MODIFIED:20250127T074430Z
UID:17571-1737556200-1737568800@worldgbc.org
SUMMARY:Conversations on Climate: Ambition\, Action\, and Inclusion for Water
DESCRIPTION:Join us for ‘Conversations on Climate: Ambition\, Action\, and Inclusion for Water\,’ a global online series that brings together leading experts to tackle the challenges of our time. Explore innovative strategies\, amplify ambitious solutions\, and dive into inclusive pathways toward a sustainable and water focused future.You’ll hear from an inspiring line-up of speakers\, including Catherine Burns (Managing Director\, The Nature Conservancy)\, Rita Zaghloul (Director\, High Ambition Coalition for Nature and People\, and Earthshot Prize winner)\, Natali Ghawi (Health\, Equity and Resilience Manager\, World Green Building Council) and more. These thought leaders will share diverse perspectives and expertise on pivotal topics such as water credits\, innovative climate solutions\, and the intersection of sustainability and inclusivity.
URL:https://worldgbc.org/event/conversations-on-climate-ambition-action-and-inclusion-for-water/
CATEGORIES:WorldGBC Events
END:VEVENT
END:VCALENDAR