BEGIN:VCALENDAR
VERSION:2.0
PRODID:-//World Green Building Council - ECPv6.15.20//NONSGML v1.0//EN
CALSCALE:GREGORIAN
METHOD:PUBLISH
X-WR-CALNAME:World Green Building Council
X-ORIGINAL-URL:https://worldgbc.org
X-WR-CALDESC:Events for World Green Building Council
REFRESH-INTERVAL;VALUE=DURATION:PT1H
X-Robots-Tag:noindex
X-PUBLISHED-TTL:PT1H
BEGIN:VTIMEZONE
TZID:Atlantic/Azores
BEGIN:DAYLIGHT
TZOFFSETFROM:-0100
TZOFFSETTO:+0000
TZNAME:+00
DTSTART:20240331T010000
END:DAYLIGHT
BEGIN:STANDARD
TZOFFSETFROM:+0000
TZOFFSETTO:-0100
TZNAME:-01
DTSTART:20241027T010000
END:STANDARD
BEGIN:DAYLIGHT
TZOFFSETFROM:-0100
TZOFFSETTO:+0000
TZNAME:+00
DTSTART:20250330T010000
END:DAYLIGHT
BEGIN:STANDARD
TZOFFSETFROM:+0000
TZOFFSETTO:-0100
TZNAME:-01
DTSTART:20251026T010000
END:STANDARD
BEGIN:DAYLIGHT
TZOFFSETFROM:-0100
TZOFFSETTO:+0000
TZNAME:+00
DTSTART:20260329T010000
END:DAYLIGHT
BEGIN:STANDARD
TZOFFSETFROM:+0000
TZOFFSETTO:-0100
TZNAME:-01
DTSTART:20261025T010000
END:STANDARD
END:VTIMEZONE
BEGIN:VTIMEZONE
TZID:UTC
BEGIN:STANDARD
TZOFFSETFROM:+0000
TZOFFSETTO:+0000
TZNAME:UTC
DTSTART:20240101T000000
END:STANDARD
END:VTIMEZONE
BEGIN:VEVENT
DTSTART;TZID=Atlantic/Azores:20250604T133000
DTEND;TZID=Atlantic/Azores:20250604T173000
DTSTAMP:20260425T213838
CREATED:20250508T065050Z
LAST-MODIFIED:20250508T065052Z
UID:18094-1749043800-1749058200@worldgbc.org
SUMMARY:INDICATE LIFE Whole Life Carbon Network Event
DESCRIPTION:As a key contributor to the advancement of WLC data and policy\, we are delighted to invite you to the first Whole Life Carbon (WLC) Network Event on June 4th in Brussels. ​​ \n\n\n\nThe built environment is responsible for approximately 40% of all global carbon emissions. In order to align with the 1.5°C Paris Agreement goals and reach climate neutrality by 2050\, Europe must act now in reducing whole life carbon (WLC) emissions across Europe’s built environment. Addressing the WLC emissions includes tackling both operational and embodied carbon. ​​​ \n\n\n\nAs a platform for sharing insights and knowledge on WLC policies the Network Event will: ​​ \n\n\n\n\nExplore the European policy context ​​\n\n\n\nShare insights and learnings from INDICATE on developing the foundation for WLC Policy​​\n\n\n\nExplore further levers to reduce WLC (“looking beyond”)​​\n\n\n\nDiscuss WLC Policy implementation to decarbonise the European built environment and how to overcome key barriers. ​​\n\n\n\nBe a forum for networking and sharing learnings among academia\, industry\, government and EU policy makers​.\n\n\n\n\nRegister now to secure your spot – please note there is limited capacity at the event. Priority will be given to professionals active in the European built environment\, at the discretion of the organisers.
URL:https://worldgbc.org/event/indicate-life-whole-life-carbon-network-event/
LOCATION:60 Rue Ravenstein 1000 Bruxelles Belgium\, 60 Rue Ravenstein 1000 Bruxelles\, Belgium\, Belgium
CATEGORIES:WorldGBC Events
END:VEVENT
BEGIN:VEVENT
DTSTART;TZID=UTC:20250624T130000
DTEND;TZID=UTC:20250624T140000
DTSTAMP:20260425T213838
CREATED:20250617T105047Z
LAST-MODIFIED:20250617T152728Z
UID:18152-1750770000-1750773600@worldgbc.org
SUMMARY:WorldGBC: NDCs Building Local Impact Webinar
DESCRIPTION:WorldGBC invites you to the inaugural webinar in our #BeBoldOnBuildings COP30 series: NDCs Building Local Impact. \n\n\n\nThis year’s COP30 in Belém\, Brazil\, will be a critical inflection point for global climate action as countries update Nationally Determined Contributions (NDCs). In this webinar we will uncover the gaps and opportunities for policymakers and industry to #BeBoldOnBuildings; and officially launch our new ‘NDC Scorecard for Sustainable Buildings’ — a tool which enables governments to analyse\, align and action bolder building policies ahead of COP30. \n\n\n\nAbout the NDC Scorecard \n\n\n\nMost countries’ NDCs and policies are not ambitious or detailed enough when it comes to the built environment. Whilst 81% of NDCs reference buildings\, only 18% include quantified targets and just 16% outline funding strategies. \n\n\n\nOur NDC Scorecard tool addresses these issues whilst supporting governments and key stakeholders by: highlighting the gaps\, identifying action areas\, supporting advocacy engagement\, and preparing political actors to develop wider decarbonisation roadmaps. \n\n\n\nSpeakers \n\n\n\nWe are delighted to be joined by keynote speaker Antonio Francisco da Costa e Silva Neto\, Ambassador from the Office of the Minister of Cities in Brazil\, to share insights on the built environment ahead of COP30. \n\n\n\nWe will also hear from government officials and Green Building Council implementers in Brazil and the United Arab Emirates to discuss what a strong outcome for the built environment at COP30 looks like\, and the role NDCs play. \n\n\n\nAgenda: \n\n\n\n\nKeynote speech from Antonio Francisco da Costa e Silva Neto\, Ambassador\, Chief International Advisor\, Office of the Minister of Cities\, Brazil \n\n\n\nWorldGBC NDC Scorecard for Sustainable Buildings launch and live demo  \n\n\n\nPanel discussion diving into international and country-level NDC\, policy and community implementation in the lead-up to COP30:\n\nAntonio Francisco da Costa e Silva Neto\, Ambassador\, Chief International Advisor\, Office of the Minister of Cities\, Brazil \n\n\n\nFelipe Faria\, CEO\, GBC Brasil \n\n\n\nCarlos Andres Amaya\, Programs Development & Oversight Section Head\, UAE Government  \n\n\n\n\n\nQ&A 
URL:https://worldgbc.org/event/worldgbc-ndcs-building-local-impact-webinar/
CATEGORIES:WorldGBC Events
END:VEVENT
BEGIN:VEVENT
DTSTART;TZID=UTC:20250624T143000
DTEND;TZID=UTC:20250624T173000
DTSTAMP:20260425T213838
CREATED:20250602T111047Z
LAST-MODIFIED:20250602T111049Z
UID:18120-1750775400-1750786200@worldgbc.org
SUMMARY:Better buildings: Action-driven solutions for decarbonisation
DESCRIPTION:The built environment accounts for nearly 40% of global CO₂ emissions—making it central to climate action. As countries update their climate pledges ahead of COP30\, this moment is critical to closing the gap to 1.5ºC. \n\n\n\nThis session spotlights bold actions from governments and industry driving a resilient\, decarbonised built environment. We’ll showcase global best practices\, including the UK’s updated NDC\, and hear from leaders transforming their asset portfolios. \n\n\n\nEchoing Ambassador André Corrêa do Lago’s call for real-world impact\, the panel will explore what’s working\, what’s next\, and how the sector can fully deliver on the Paris Agreement.
URL:https://worldgbc.org/event/better-buildings-action-driven-solutions-for-decarbonisation/
LOCATION:Buro Happold\, The Featherstone Building\, 66 City Rd\, London EC1Y 2AL\, United Kingdom\, London\, United Kingdom
CATEGORIES:WorldGBC Events
END:VEVENT
BEGIN:VEVENT
DTSTART;TZID=UTC:20250625T080000
DTEND;TZID=UTC:20250625T170000
DTSTAMP:20260425T213838
CREATED:20250529T142547Z
LAST-MODIFIED:20250602T112407Z
UID:18116-1750838400-1750870800@worldgbc.org
SUMMARY:Climate Innovation Forum
DESCRIPTION:WorldGBC is proud to be partnering with Climate Action\, hosts of the Climate Innovation Forum (#CIF25)\, 25 June 2025\, and a flagship event of London Climate Action Week 2025.   \n\n\n\nFocusing on the practical steps needed to keep 1.5°C alive\, #CIF25 is bringing together over 2\,000 business leaders\, policy makers\, investors and civil society representatives to accelerate our collective efforts in driving climate action. Discussions will include unblocking delivery barriers\, getting investment flowing where it’s needed\, and sharing best practice that can be replicated at speed and scale.  \n\n\n\nApply now to book your place and be part of this global community.
URL:https://worldgbc.org/event/climate-innovation-forum/
CATEGORIES:WorldGBC Events
END:VEVENT
END:VCALENDAR