BEGIN:VCALENDAR
VERSION:2.0
PRODID:-//World Green Building Council - ECPv6.15.20//NONSGML v1.0//EN
CALSCALE:GREGORIAN
METHOD:PUBLISH
X-ORIGINAL-URL:https://worldgbc.org
X-WR-CALDESC:Events for World Green Building Council
REFRESH-INTERVAL;VALUE=DURATION:PT1H
X-Robots-Tag:noindex
X-PUBLISHED-TTL:PT1H
BEGIN:VTIMEZONE
TZID:UTC
BEGIN:STANDARD
TZOFFSETFROM:+0000
TZOFFSETTO:+0000
TZNAME:UTC
DTSTART:20250101T000000
END:STANDARD
END:VTIMEZONE
BEGIN:VEVENT
DTSTART;TZID=UTC:20260622T000000
DTEND;TZID=UTC:20260622T235959
DTSTAMP:20260421T160056
CREATED:20260305T102143Z
LAST-MODIFIED:20260305T102455Z
UID:19095-1782086400-1782172799@worldgbc.org
SUMMARY:WorldGBC Global Solutions Forum 2026
DESCRIPTION:Get ready for WorldGBC’s Global Solutions Forum\, the flagship event of our biennial Leadership Summit\, taking place alongside London Climate Action Week 2026. Held in partnership with UKGBC\, we’re bringing the global green building community together to showcase feasible\, profitable solutions that are already underway and ready to be scaled — bringing everyone into this era of action. \n\n\n\nOpen to professionals working across the sustainability and building sectors\, join the Forum shaping what the built environment can do next to scale today’s progress into tomorrow’s built realities.
URL:https://worldgbc.org/event/worldgbc-global-solutions-forum-2026/
LOCATION:London\, UK
CATEGORIES:WorldGBC Events
ATTACH;FMTTYPE=image/jpeg:https://worldgbc.org/wp-content/uploads/2026/03/GSF.jpg
END:VEVENT
BEGIN:VEVENT
DTSTART;TZID=UTC:20260907T000000
DTEND;TZID=UTC:20260911T235959
DTSTAMP:20260421T160056
CREATED:20260130T120325Z
LAST-MODIFIED:20260217T105907Z
UID:19022-1788739200-1789171199@worldgbc.org
SUMMARY:World Green Building Week 2026
DESCRIPTION:Join us in London for World Green Building Week 2026! \n\n\n\nOrganised by the World Green Building Council (WorldGBC) and now in its 18th year\, World Green Building Week is the world’s largest campaign dedicated to the sustainable built environment. Led by our global network\, the campaign demonstrates how green buildings\, cities and infrastructure can accelerate climate action\, resilience and wellbeing. \n\n\n\nWorld Green Building Week is a powerful moment for us to celebrate leadership\, share solutions and demonstrate the collective strength of our global movement. We hope you can join us.
URL:https://worldgbc.org/event/world-green-building-week-2026/
LOCATION:London\, UK
CATEGORIES:WorldGBC Events
ATTACH;FMTTYPE=image/jpeg:https://worldgbc.org/wp-content/uploads/2026/01/WGBW26-2.jpg
END:VEVENT
END:VCALENDAR